BEGIN:VCALENDAR
VERSION:2.0
PRODID:-//A Stable Connection - ECPv6.5.2//NONSGML v1.0//EN
CALSCALE:GREGORIAN
METHOD:PUBLISH
X-WR-CALNAME:A Stable Connection
X-ORIGINAL-URL:https://astableconnection.com
X-WR-CALDESC:Events for A Stable Connection
REFRESH-INTERVAL;VALUE=DURATION:PT1H
X-Robots-Tag:noindex
X-PUBLISHED-TTL:PT1H
BEGIN:VTIMEZONE
TZID:America/New_York
BEGIN:DAYLIGHT
TZOFFSETFROM:-0500
TZOFFSETTO:-0400
TZNAME:EDT
DTSTART:20230312T070000
END:DAYLIGHT
BEGIN:STANDARD
TZOFFSETFROM:-0400
TZOFFSETTO:-0500
TZNAME:EST
DTSTART:20231105T060000
END:STANDARD
END:VTIMEZONE
BEGIN:VEVENT
DTSTART;TZID=America/New_York:20230113T090000
DTEND;TZID=America/New_York:20230115T170000
DTSTAMP:20260424T104354
CREATED:20221021T023755Z
LAST-MODIFIED:20221021T024047Z
UID:1688-1673600400-1673802000@astableconnection.com
SUMMARY:Equine First Aid Instructor Training  Course\, Bowman\, Georgia
DESCRIPTION:3-day training for new Equine First Aid Instructors.\nLimited number of training places.\nDetails\, application form and registration details can be found here.
URL:https://astableconnection.com/event/equine-first-aid-instructor-training-bowmanga-jan2023/
LOCATION:Georgia\, GA\, United States
CATEGORIES:Equine Emergency First Aid Course,Equine First Aid Instructor Course,Instructor Course
END:VEVENT
END:VCALENDAR