BEGIN:VCALENDAR
VERSION:2.0
PRODID:-//A Stable Connection - ECPv6.5.2//NONSGML v1.0//EN
CALSCALE:GREGORIAN
METHOD:PUBLISH
X-ORIGINAL-URL:https://astableconnection.com
X-WR-CALDESC:Events for A Stable Connection
REFRESH-INTERVAL;VALUE=DURATION:PT1H
X-Robots-Tag:noindex
X-PUBLISHED-TTL:PT1H
BEGIN:VTIMEZONE
TZID:America/Chicago
BEGIN:DAYLIGHT
TZOFFSETFROM:-0600
TZOFFSETTO:-0500
TZNAME:CDT
DTSTART:20230312T080000
END:DAYLIGHT
BEGIN:STANDARD
TZOFFSETFROM:-0500
TZOFFSETTO:-0600
TZNAME:CST
DTSTART:20231105T070000
END:STANDARD
END:VTIMEZONE
BEGIN:VEVENT
DTSTART;TZID=America/Chicago:20230429T090000
DTEND;TZID=America/Chicago:20230429T170000
DTSTAMP:20260424T053747
CREATED:20221021T020205Z
LAST-MODIFIED:20221102T184321Z
UID:1681-1682758800-1682787600@astableconnection.com
SUMMARY:Equine Health & Emergency First Aid - Norridgewock\, Maine
DESCRIPTION:Join us for a one-day course covering: what your vet needs to know\, conditioning a horse to accept treatment\, taking vital signs\, dealing with lacerations\, punctures\, colic\, choke\, collapse\, casting\, shock\, hoof issues\, recognizing pain in the horse and pain source identification\, spinal health\, injury prevention techniques and so much more! Lots of hands-on scenarios allow you to put your knowledge into practice. All attendees receive a certificate of completion\, first aid manual and a “vitals” reference card. All class supplies are provided\, as are snacks and drinks. \nSave $50 by registering for both this class and the Advanced Equine First Aid on the following day. Choose the “2 class bundle” option at check-out. \nOnce you have registered\, I will send you an email with all the class information\, including directions to the location. \nDuring registration\, please provide your name as it should appear on your Certificate of Completion. If you encounter any problems during registration\, please call or text me on 936-827-5694. \nCost $159/student \n\n\n \n\n\nOptions\n\n\nEquine First Aid $159.00 USD2-class bundle $268.00 USD \n\n\nName for your certificate
URL:https://astableconnection.com/event/ehefa-29apr23/
LOCATION:SC
END:VEVENT
END:VCALENDAR