BEGIN:VCALENDAR
VERSION:2.0
PRODID:-//A Stable Connection - ECPv6.5.2//NONSGML v1.0//EN
CALSCALE:GREGORIAN
METHOD:PUBLISH
X-WR-CALNAME:A Stable Connection
X-ORIGINAL-URL:https://astableconnection.com
X-WR-CALDESC:Events for A Stable Connection
REFRESH-INTERVAL;VALUE=DURATION:PT1H
X-Robots-Tag:noindex
X-PUBLISHED-TTL:PT1H
BEGIN:VTIMEZONE
TZID:America/Chicago
BEGIN:DAYLIGHT
TZOFFSETFROM:-0600
TZOFFSETTO:-0500
TZNAME:CDT
DTSTART:20230312T080000
END:DAYLIGHT
BEGIN:STANDARD
TZOFFSETFROM:-0500
TZOFFSETTO:-0600
TZNAME:CST
DTSTART:20231105T070000
END:STANDARD
END:VTIMEZONE
BEGIN:VEVENT
DTSTART;TZID=America/Chicago:20231027T080000
DTEND;TZID=America/Chicago:20231029T170000
DTSTAMP:20260423T171408
CREATED:20230715T202216Z
LAST-MODIFIED:20230804T015556Z
UID:1828-1698393600-1698598800@astableconnection.com
SUMMARY:Equine First Aid Instructor Course - Texas
DESCRIPTION:3-day training for new Equine First Aid Instructors.\nNear Conroe\, Texas\nLimited number of training places.\nDetails\, application form and registration details can be found here.
URL:https://astableconnection.com/event/equine-first-aid-instructor-course-texas-2/
LOCATION:A Stable Connection\, 10961 Lake Forest Drive\, Conroe\, TX\, 77384\, United States
CATEGORIES:Equine First Aid Instructor Course
END:VEVENT
END:VCALENDAR