BEGIN:VCALENDAR
VERSION:2.0
PRODID:-//A Stable Connection - ECPv6.5.2//NONSGML v1.0//EN
CALSCALE:GREGORIAN
METHOD:PUBLISH
X-WR-CALNAME:A Stable Connection
X-ORIGINAL-URL:https://astableconnection.com
X-WR-CALDESC:Events for A Stable Connection
REFRESH-INTERVAL;VALUE=DURATION:PT1H
X-Robots-Tag:noindex
X-PUBLISHED-TTL:PT1H
BEGIN:VTIMEZONE
TZID:America/Chicago
BEGIN:DAYLIGHT
TZOFFSETFROM:-0600
TZOFFSETTO:-0500
TZNAME:CDT
DTSTART:20220313T080000
END:DAYLIGHT
BEGIN:STANDARD
TZOFFSETFROM:-0500
TZOFFSETTO:-0600
TZNAME:CST
DTSTART:20221106T070000
END:STANDARD
END:VTIMEZONE
BEGIN:VEVENT
DTSTART;TZID=America/Chicago:20221111T090000
DTEND;TZID=America/Chicago:20221113T170000
DTSTAMP:20260424T221214
CREATED:20221028T193945Z
LAST-MODIFIED:20221028T194309Z
UID:1701-1668157200-1668358800@astableconnection.com
SUMMARY:Equine First Aid Instructor Training  Course\, Conroe\, TX
DESCRIPTION:3-day training for new Equine First Aid Instructors.\nLimited number of training places.\nDetails\, application form and registration details can be found here.
URL:https://astableconnection.com/event/equine-first-aid-instructor-training-conroe-nov2022/
LOCATION:A Stable Connection\, 10961 Lake Forest Drive\, Conroe\, TX\, 77384\, United States
CATEGORIES:Equine Emergency First Aid Course,Equine First Aid Instructor Course,Instructor Course
END:VEVENT
BEGIN:VEVENT
DTSTART;TZID=America/Chicago:20221118T080000
DTEND;TZID=America/Chicago:20221118T170000
DTSTAMP:20260424T221214
CREATED:20221117T205838Z
LAST-MODIFIED:20221117T213312Z
UID:1726-1668758400-1668790800@astableconnection.com
SUMMARY:Pink Friday Special
DESCRIPTION:Buy for yourself – or give as gifts!\nRegister for a full-day class before November 30th\, support a small business and be entered to win a $250 vanilla Visa card. You can use your registration for any full day Equi-First Aid USA class: \nEquine Health & Emergency First Aid\nAdvanced Equine First Aid (Regular or Wilderness/Remote)\nDisaster Planning & Emergency Preparedness\nSafe Trailering Practices \nWhen you register\, I will send you an email with a gift certificate valid for any Equi-First Aid USA class (certificate cannot be redeemed for cash). \n\n\n \n\n\nName for Certificate
URL:https://astableconnection.com/event/pink-friday-special/
LOCATION:SC
END:VEVENT
END:VCALENDAR