BEGIN:VCALENDAR
VERSION:2.0
PRODID:-//A Stable Connection - ECPv6.5.2//NONSGML v1.0//EN
CALSCALE:GREGORIAN
METHOD:PUBLISH
X-ORIGINAL-URL:https://astableconnection.com
X-WR-CALDESC:Events for A Stable Connection
REFRESH-INTERVAL;VALUE=DURATION:PT1H
X-Robots-Tag:noindex
X-PUBLISHED-TTL:PT1H
BEGIN:VTIMEZONE
TZID:America/Chicago
BEGIN:DAYLIGHT
TZOFFSETFROM:-0600
TZOFFSETTO:-0500
TZNAME:CDT
DTSTART:20220313T080000
END:DAYLIGHT
BEGIN:STANDARD
TZOFFSETFROM:-0500
TZOFFSETTO:-0600
TZNAME:CST
DTSTART:20221106T070000
END:STANDARD
END:VTIMEZONE
BEGIN:VEVENT
DTSTART;TZID=America/Chicago:20221210T090000
DTEND;TZID=America/Chicago:20221210T170000
DTSTAMP:20260424T153933
CREATED:20221101T113104Z
LAST-MODIFIED:20221101T113912Z
UID:1705-1670662800-1670691600@astableconnection.com
SUMMARY:Equine Health & Emergency First Aid - Conroe\, TX
DESCRIPTION:Join us for a one-day course covering: what your vet needs to know\, conditioning a horse to accept treatment\, taking vital signs\, dealing with lacerations\, punctures\, colic\, choke\, collapse\, casting\, shock\, hoof issues\, recognizing pain in the horse and pain source identification\, spinal health\, injury prevention techniques and so much more! Lots of hands-on scenarios allow you to put your knowledge into practice. All attendees receive a certificate of completion\, first aid manual and a “vitals” reference card. All class supplies are provided\, as are snacks and drinks. \nOnce you have registered\, I will send you an email with all the class information\, including directions to the location. \nDuring registration\, please provide your name as it should appear on your Certificate of Completion. Registrations\, including your name as you want it to appear on your certificate MUST be completed at least 48 hours before the class (to allow time for logistics & certificate printing). If you miss the deadline\, or if you encounter any problems during registration\, please call or text me on 936-827-5694. \nCost $159/student \n\n\n \n\n\nName for your certificate
URL:https://astableconnection.com/event/ehefa-10dec22/
LOCATION:A Stable Connection\, 10961 Lake Forest Drive\, Conroe\, TX\, 77384\, United States
END:VEVENT
BEGIN:VEVENT
DTSTART;TZID=America/Chicago:20221211T080000
DTEND;TZID=America/Chicago:20221211T160000
DTSTAMP:20260424T153933
CREATED:20221125T180209Z
LAST-MODIFIED:20221125T180209Z
UID:1730-1670745600-1670774400@astableconnection.com
SUMMARY:Advanced Equine First Aid
DESCRIPTION:Following on from our Equine Health & Emergency First Aid class\, the Advanced class prepares you to deal with more serious situations while awaiting advanced veterinary care. Hands-on emergency scenarios provide an opportunity to put skills into practice. Additional topics include risk assessments\, horses’ suitability for work\, body condition scoring\, conformation and overall health. Combining classroom presentations with hands-on\, practical skills sessions\, the class provides a fun and informative learning experience. All attendees receive a Certificate of Completion and an Advanced Equine First Aid manual. All class supplies are provided\, as are snacks and drinks.  \nPre-requisite: Equine Health & Emergency First Aid. If you have not yet taken the EHEFA class\, please contact me prior to registering for this Advanced class. It is available the day before this class\, at the same location. \nRegistration. If you only wish to take this class\, choose the first payment option. If you have already registered for the class on December 10th\, choose the second option. If you wish to register for both classes\, choose the third option.  \nOnce you have registered\, I will send you an email with all the class information\, including directions to the location. \nDuring registration\, please provide your name as it should appear on your Certificate of Completion. If you encounter any problems during registration\, please call or text me on 936-827-5694. \n\n\n \n\n\nRegistration options\n\n\nAdvanced class registration $159.00 USDSecond class regiistration $109.00 USDSat/Sun registration $268.00 USD \n\n\nName for Certificate
URL:https://astableconnection.com/event/aefa-11dec22/
LOCATION:A Stable Connection\, 10961 Lake Forest Drive\, Conroe\, TX\, 77384\, United States
CATEGORIES:Advanced Equine First Aid
END:VEVENT
END:VCALENDAR