BEGIN:VCALENDAR
VERSION:2.0
PRODID:-//A Stable Connection - ECPv6.5.2//NONSGML v1.0//EN
CALSCALE:GREGORIAN
METHOD:PUBLISH
X-WR-CALNAME:A Stable Connection
X-ORIGINAL-URL:https://astableconnection.com
X-WR-CALDESC:Events for A Stable Connection
REFRESH-INTERVAL;VALUE=DURATION:PT1H
X-Robots-Tag:noindex
X-PUBLISHED-TTL:PT1H
BEGIN:VTIMEZONE
TZID:America/New_York
BEGIN:DAYLIGHT
TZOFFSETFROM:-0500
TZOFFSETTO:-0400
TZNAME:EDT
DTSTART:20230312T070000
END:DAYLIGHT
BEGIN:STANDARD
TZOFFSETFROM:-0400
TZOFFSETTO:-0500
TZNAME:EST
DTSTART:20231105T060000
END:STANDARD
END:VTIMEZONE
BEGIN:VEVENT
DTSTART;TZID=America/New_York:20230819T080000
DTEND;TZID=America/New_York:20230819T170000
DTSTAMP:20260423T172643
CREATED:20230511T184338Z
LAST-MODIFIED:20230511T184338Z
UID:1811-1692432000-1692464400@astableconnection.com
SUMMARY:Equine Summit - UGA Veterinary Teaching Hospital
DESCRIPTION:I am going to be a sponsor & exhibitor at the Equine Summit at the University of Georgia School of Veterinary Medicine Teaching Hospital\, organized by the UGA Student Chapter of the American Association of Equine Practitioners. This is a great event for horse owners\, offering presentations on a wide range of topics.
URL:https://astableconnection.com/event/equine-summit-uga-veterinary-teaching-hospital/
LOCATION:UGA Veterinary Teaching Hospital\, 2200 College Station Rd.\, Athens\, 30602
CATEGORIES:Conference,Equine Emergency First Aid Course
END:VEVENT
BEGIN:VEVENT
DTSTART;TZID=America/New_York:20230825T080000
DTEND;TZID=America/New_York:20230827T170000
DTSTAMP:20260423T172643
CREATED:20230715T201945Z
LAST-MODIFIED:20230715T201945Z
UID:1826-1692950400-1693155600@astableconnection.com
SUMMARY:Equine First Aid Instructor Course - South Carolina
DESCRIPTION:3-day training for new Equine First Aid Instructors.\nGreenville\, South Carolina\nLimited number of training places.\nDetails\, application form and registration details can be found here.
URL:https://astableconnection.com/event/equine-first-aid-instructor-course-south-carolina/
LOCATION:SC
CATEGORIES:Equine First Aid Instructor Course
END:VEVENT
END:VCALENDAR