BEGIN:VCALENDAR
VERSION:2.0
PRODID:-//A Stable Connection - ECPv6.5.2//NONSGML v1.0//EN
CALSCALE:GREGORIAN
METHOD:PUBLISH
X-WR-CALNAME:A Stable Connection
X-ORIGINAL-URL:https://astableconnection.com
X-WR-CALDESC:Events for A Stable Connection
REFRESH-INTERVAL;VALUE=DURATION:PT1H
X-Robots-Tag:noindex
X-PUBLISHED-TTL:PT1H
BEGIN:VTIMEZONE
TZID:America/New_York
BEGIN:DAYLIGHT
TZOFFSETFROM:-0500
TZOFFSETTO:-0400
TZNAME:EDT
DTSTART:20230312T070000
END:DAYLIGHT
BEGIN:STANDARD
TZOFFSETFROM:-0400
TZOFFSETTO:-0500
TZNAME:EST
DTSTART:20231105T060000
END:STANDARD
TZID:America/Chicago
BEGIN:DAYLIGHT
TZOFFSETFROM:-0600
TZOFFSETTO:-0500
TZNAME:CDT
DTSTART:20230312T080000
END:DAYLIGHT
BEGIN:STANDARD
TZOFFSETFROM:-0500
TZOFFSETTO:-0600
TZNAME:CST
DTSTART:20231105T070000
END:STANDARD
END:VTIMEZONE
BEGIN:VEVENT
DTSTART;TZID=America/New_York:20230915T080000
DTEND;TZID=America/New_York:20230915T120000
DTSTAMP:20260423T135857
CREATED:20230505T181236Z
LAST-MODIFIED:20230506T160217Z
UID:1800-1694764800-1694779200@astableconnection.com
SUMMARY:Equine First Aid Fundamentals - Chagrin Falls\, Ohio
DESCRIPTION:Join us for this fast-paced\, half-day class packed with invaluable information and covering the fundamentals of equine first aid. Working hands-on with the horses\, you will learn to take vital signs\, recognize pain in the horse\, detect colic\, and participate in plenty of bandaging in realistic scenarios. All attendees receive a certificate of completion and a first aid reference handbook. \nOur host\, Fieldstone Farm\, is a premier PATH International and one of the largest therapeutic equine centers in the country. \nHERD Institute members who are attending the September conference can complete the practical portion of their Equine First Aid requirement by attending the class. \n\n\n \n\n\nOptions\n\n\nEquine First Aid Fundamentals $89.00 USDHERD Institute student $79.00 USD \n\n\nName for your certificate
URL:https://astableconnection.com/event/equine-first-aid-fundamentals-chagrin-falls-ohio/
LOCATION:Fieldstone Farm\, 16497 Snyder Road\, Chagrin Falls\, 44023\, United States
CATEGORIES:Equine Emergency First Aid Course,Equine Fundamentals First Aid Course
END:VEVENT
BEGIN:VEVENT
DTSTART;TZID=America/Chicago:20230915T140000
DTEND;TZID=America/Chicago:20230917T120000
DTSTAMP:20260423T135857
CREATED:20230506T165236Z
LAST-MODIFIED:20230506T165236Z
UID:1808-1694786400-1694952000@astableconnection.com
SUMMARY:Sharing Space with The HERD conference - Ohio
DESCRIPTION:I will be facilitating a breakout session in the afternoon of Saturday 16th\, on the topic of dealing with disasters.
URL:https://astableconnection.com/event/sharing-space-with-the-herd-conference-ohio/
LOCATION:SC
END:VEVENT
BEGIN:VEVENT
DTSTART;VALUE=DATE:20230922
DTEND;VALUE=DATE:20230925
DTSTAMP:20260423T135857
CREATED:20230803T203614Z
LAST-MODIFIED:20230803T203820Z
UID:1861-1695340800-1695599999@astableconnection.com
SUMMARY:Equine Education Retreat - North Dakota Equine Association
DESCRIPTION:Three days of exceptional equine education!\nSee individual events for registration.
URL:https://astableconnection.com/event/equine-education-retreat-north-dakota-equine-association/
LOCATION:SC
END:VEVENT
BEGIN:VEVENT
DTSTART;TZID=America/Chicago:20230922T120000
DTEND;TZID=America/Chicago:20230922T160000
DTSTAMP:20260423T135857
CREATED:20230803T202139Z
LAST-MODIFIED:20230919T132547Z
UID:1842-1695384000-1695398400@astableconnection.com
SUMMARY:Introduction to Rider Biomechanics
DESCRIPTION:UNFORTUNATELY\, THIS EVENT HAS BEEN POSTPONED. \nAs part of the North Dakota Equine Association’s Equine Education Retreat\, this presentation will explain how your posture affects your partnership with your horse and\, ultimately\, your performance. Whether you are competing at the highest level or simply enjoy riding your horses for pleasure\, the principles of Rider Biomechanics make complicated ideas simple and answer age-old questions. Most riders will remember being told that they should sit straight\, withtheir thumbs on top and their heels down – but many riders don’t know why these are important. Topics covered will include: position\, balance and seat\, effects of natural asymmetry\, the training scale and how some common riding habits can have a negative impact on the horse. Attendees will receive a Certificate of Attendance.\n$70/person
URL:https://astableconnection.com/event/introduction-to-rider-biomechanics/
LOCATION:Flying D Paint Ranch\, 5302 123rd Ave NE\, Bismarck\, North Dakota\, 58503
CATEGORIES:Rider Biomechanics
END:VEVENT
BEGIN:VEVENT
DTSTART;TZID=America/Chicago:20230922T180000
DTEND;TZID=America/Chicago:20230922T210000
DTSTAMP:20260423T135857
CREATED:20230803T202421Z
LAST-MODIFIED:20230919T132220Z
UID:1844-1695405600-1695416400@astableconnection.com
SUMMARY:Horse Owner's Introduction to Equine Kinesiology Taping
DESCRIPTION:UNFORTUNATELY\, THIS EVENT HAS BEEN POSTPONED.  \nAs part of the North Dakota Equine Association’s Equine Education Retreat\, learn the basics of equine kinesiology taping and six techniques you can apply yourself to help your horse. Includes an Intro Equi-Taping™ Kit that contains everything you will need to start taping (2 rolls of Classic 2″ tape\, teflon-coated kinesiology scissors\, a handy How-to-Tape-Guide\, and an area prep towel).\nAlso included is FREE access to the online Equi-Taping™ Basics Course (a $59.95 value). \n$70/person.  \nDeadline for registration is 14 September\, 2023
URL:https://astableconnection.com/event/horse-owners-introduction-to-equine-kinesiology-taping/
LOCATION:Flying D Paint Ranch\, 5302 123rd Ave NE\, Bismarck\, North Dakota\, 58503
CATEGORIES:Equine Kinesiology Taping
END:VEVENT
BEGIN:VEVENT
DTSTART;TZID=America/Chicago:20230923T080000
DTEND;TZID=America/Chicago:20230923T170000
DTSTAMP:20260423T135857
CREATED:20230803T200024Z
LAST-MODIFIED:20230919T131912Z
UID:1836-1695456000-1695488400@astableconnection.com
SUMMARY:Equine Health & Emergency First Aid - Bismarck\, ND
DESCRIPTION:UNFORTUNATELY\, THIS EVENT HAS BEEN POSTPONED.  \nAs part of the North Dakota Equine Association’s Equine Education Retreat\, join us for a one day course covering: what your vet needs to know\, conditioning a horse to accept treatment\, taking vital signs\, dealing with various wounds\, colic\, choke\, collapse\, casting\, shock\, hoof issues\, recognizing pain in the horse\, spinal health\, injury prevention techniques and so much more! Eight hands-on scenarios provide an opportunity for students to put knowledge and skills into practice. All attendees receive a certificate of completion\, first aid manual and a “vitals” reference card. NDEA members will also receive a free barn equine vital signs poster – a $20 value. \nSave $50 by registering for this and the Advanced class on the following day. Select the 2-class bundle payment option. \nA portion of each registration will be donated to the NDEA.
URL:https://astableconnection.com/event/equine-health-emergency-first-aid-bismarck-nd/
LOCATION:Flying D Paint Ranch\, 5302 123rd Ave NE\, Bismarck\, North Dakota\, 58503
CATEGORIES:Equine Emergency First Aid Course
END:VEVENT
BEGIN:VEVENT
DTSTART;TZID=America/Chicago:20230924T080000
DTEND;TZID=America/Chicago:20230924T170000
DTSTAMP:20260423T135857
CREATED:20230803T200439Z
LAST-MODIFIED:20230919T130844Z
UID:1838-1695542400-1695574800@astableconnection.com
SUMMARY:Advanced Equine First Aid - Bismarck\, ND
DESCRIPTION:UNFORTUNATELY\, THIS EVENT HAS BEEN POSTPONED.  \nAs part of the North Dakota Equine Association’s Equine Education Retreat\, join us for a second day of equine emergency first aid\, where we deal with more severe injuries. Learn what to do in more extreme situations! Covers a wide range of injuries\, including: severe gut\nwounds\, burns\, bites & stings\, fractures\, sucking chest wounds\, and the trapped horse. This course prepares the student to handle serious injuries while in wilderness and remote locations. Ten hands-on scenarios provide an opportunity for students to put knowledge and skills into practice.All attendees receive a certificate of completion and a manual. \n(Equine Health & Emergency First Aid\, offered the day before\, is a pre-requisite for attending the Advanced class). \nSave $50 by registering for this and the equine Health U& Emergency First Aid class on the previous day. Select the 2-class bundle payment option. \nA portion of each registration will be donated to the NDEA.
URL:https://astableconnection.com/event/advanced-equine-first-aid-bismarck-nd/
LOCATION:Flying D Paint Ranch\, 5302 123rd Ave NE\, Bismarck\, North Dakota\, 58503
CATEGORIES:Advanced Equine First Aid
END:VEVENT
END:VCALENDAR